BEGIN:VCALENDAR
VERSION:2.0
PRODID:-//Home Builders Association of Greater Siouxland - ECPv6.15.20//NONSGML v1.0//EN
CALSCALE:GREGORIAN
METHOD:PUBLISH
X-WR-CALNAME:Home Builders Association of Greater Siouxland
X-ORIGINAL-URL:https://www.siouxlandhba.com
X-WR-CALDESC:Events for Home Builders Association of Greater Siouxland
REFRESH-INTERVAL;VALUE=DURATION:PT1H
X-Robots-Tag:noindex
X-PUBLISHED-TTL:PT1H
BEGIN:VTIMEZONE
TZID:America/Chicago
BEGIN:DAYLIGHT
TZOFFSETFROM:-0600
TZOFFSETTO:-0500
TZNAME:CDT
DTSTART:20240310T080000
END:DAYLIGHT
BEGIN:STANDARD
TZOFFSETFROM:-0500
TZOFFSETTO:-0600
TZNAME:CST
DTSTART:20241103T070000
END:STANDARD
BEGIN:DAYLIGHT
TZOFFSETFROM:-0600
TZOFFSETTO:-0500
TZNAME:CDT
DTSTART:20250309T080000
END:DAYLIGHT
BEGIN:STANDARD
TZOFFSETFROM:-0500
TZOFFSETTO:-0600
TZNAME:CST
DTSTART:20251102T070000
END:STANDARD
BEGIN:DAYLIGHT
TZOFFSETFROM:-0600
TZOFFSETTO:-0500
TZNAME:CDT
DTSTART:20260308T080000
END:DAYLIGHT
BEGIN:STANDARD
TZOFFSETFROM:-0500
TZOFFSETTO:-0600
TZNAME:CST
DTSTART:20261101T070000
END:STANDARD
BEGIN:DAYLIGHT
TZOFFSETFROM:-0600
TZOFFSETTO:-0500
TZNAME:CDT
DTSTART:20270314T080000
END:DAYLIGHT
BEGIN:STANDARD
TZOFFSETFROM:-0500
TZOFFSETTO:-0600
TZNAME:CST
DTSTART:20271107T070000
END:STANDARD
END:VTIMEZONE
BEGIN:VEVENT
DTSTART;TZID=America/Chicago:20260311T083000
DTEND;TZID=America/Chicago:20260311T113000
DTSTAMP:20260419T165651
CREATED:20251216T203233Z
LAST-MODIFIED:20260204T200751Z
UID:8277-1773217800-1773228600@www.siouxlandhba.com
SUMMARY:PRE-REGISTER! Tech Meets Trade: AI Workshop + Industry Networking
DESCRIPTION:{{unknown}}
URL:https://www.siouxlandhba.com/event/tech-meets-trade-ai-workshop-industry-networking/
LOCATION:HBA\, 3900 Stadium Drive\, Sioux City\, IA\, 51106\, United States
CATEGORIES:Education,Networking
END:VEVENT
BEGIN:VEVENT
DTSTART;VALUE=DATE:20251117
DTEND;VALUE=DATE:20251120
DTSTAMP:20260419T165651
CREATED:20251013T194856Z
LAST-MODIFIED:20251013T195348Z
UID:8117-1763337600-1763596799@www.siouxlandhba.com
SUMMARY:NAHB Leadership Conference
DESCRIPTION:{{unknown}}
URL:https://www.siouxlandhba.com/event/nahb-leadership-conference/
LOCATION:IA
CATEGORIES:Education,Meetings
ORGANIZER;CN="National Association of Home Builders":MAILTO:info@nahb.org
END:VEVENT
END:VCALENDAR